BEGIN:VCALENDAR
VERSION:2.0
CALSCALE:GREGORIAN
PRODID:adamgibbons/ics
METHOD:PUBLISH
X-PUBLISHED-TTL:PT1H
BEGIN:VEVENT
UID:371@tricity.dance
SUMMARY:Swing w Boto! | Impreza taneczna
DTSTAMP:20260424T142630Z
DTSTART:20260503T170000Z
DTEND:20260503T200000Z
DESCRIPTION:SWING POWRACA DO BOTO! Roztańczony wieczór na tarasie\n\nCiepły
	 wieczór\, zapach morskiej bryzy i jazz w swojej swingowej postaci... Brzm
	i\njak plan idealny? Zapraszamy do Teatru BOTO na imprezę taneczną z Shim 
	Sham\nTrójmiasto & BOTO\n\nNie musisz mieć pary ani doświadczenia. Przyjdź
	 posłuchać\, poruszać się albo po\nprostu zrelaksuj się przy muzyce w dobo
	rowym towarzystwie.\n\nKiedy: 3 Maja | 19:00 – 22:00\n\nGdzie: Teatr BOTO\
	, ul. Bohaterów Monte Cassino 54B\, Sopot\n\nWstęp: Wolny!\n\nDo zobaczeni
	a na tarasie!
URL:https://tricity.dance/event/swing-w-boto-or-impreza-taneczna
LOCATION:Teatr BOTO - ulica Bohaterów Monte Cassino 54B\, 81-759 Sopot
STATUS:CONFIRMED
CATEGORIES:Sopot,Swing,Lindy hop,ShimShamTrójmiasto
X-ALT-DESC;FMTTYPE=text/html:<p>SWING POWRACA DO BOTO! Roztańczony wieczór 
	na tarasie</p><p>Ciepły wieczór, zapach morskiej bryzy i jazz w swojej swi
	ngowej postaci... Brzmi jak plan idealny? Zapraszamy do Teatru BOTO na imp
	rezę taneczną z Shim Sham Trójmiasto &amp; BOTO</p><p>Nie musisz mieć pary
	 ani doświadczenia. Przyjdź posłuchać, poruszać się albo po prostu zrelaks
	uj się przy muzyce w doborowym towarzystwie.</p><p>Kiedy: 3 Maja | 19:00 –
	 22:00</p><p>Gdzie: Teatr BOTO, ul. Bohaterów Monte Cassino 54B, Sopot</p>
	<p>Wstęp: Wolny!</p><p>Do zobaczenia na tarasie!</p>
BEGIN:VALARM
ACTION:DISPLAY
DESCRIPTION:Swing w Boto! | Impreza taneczna
TRIGGER:-PT1H
END:VALARM
END:VEVENT
END:VCALENDAR
