BEGIN:VCALENDAR
VERSION:2.0
CALSCALE:GREGORIAN
PRODID:adamgibbons/ics
METHOD:PUBLISH
X-PUBLISHED-TTL:PT1H
BEGIN:VEVENT
UID:103@tricity.dance
SUMMARY:Trochę szybsza potańcowka Swingowa
DTSTAMP:20260421T055702Z
DTSTART:20240719T170000Z
DTEND:20240719T203000Z
DESCRIPTION:Luźna potańcówka do trochę szybszej muzyki swingowej idealnej d
	o Collegiate\nShag\, Charleston\, Balboa i szybszego Lindy Hopa.\n\nZapras
	zajcie znajomych jeśli chcecie \;)
URL:https://tricity.dance/event/troche-szybsza-potancowka-swingowa-1
GEO:54.3728272;18.604720537334785
LOCATION:Sobótkowa Polana - Kaczy Dołek - Ul. Jaśkowa Dolina 54\, 80-252 Gd
	ańsk
STATUS:CONFIRMED
CATEGORIES:Balboa,Charleston,Lindy hop,collegiate shag
X-ALT-DESC;FMTTYPE=text/html:<p>Luźna potańcówka do trochę szybszej muzyki 
	swingowej idealnej do Collegiate Shag, Charleston, Balboa i szybszego Lind
	y Hopa.</p><p>Zapraszajcie znajomych jeśli chcecie ;)</p>
END:VEVENT
END:VCALENDAR
