BEGIN:VCALENDAR
VERSION:2.0
CALSCALE:GREGORIAN
PRODID:adamgibbons/ics
METHOD:PUBLISH
X-PUBLISHED-TTL:PT1H
BEGIN:VEVENT
UID:154@tricity.dance
SUMMARY:Roztańczony Konsulat – retro party w klimacie Wielkiego Gatsby’ego 
	| URODZINY HARLEM BEATS
DTSTAMP:20260420T214016Z
DTSTART:20241012T180000Z
DTEND:20241012T215500Z
DESCRIPTION:Wieczór zaczniemy od lekcji tańca w rytmach swingu\, prowadzone
	j przez szkołę\nHarlem Beats. Następnie w wir tanecznej zabawy wprowadzi W
	as zespół Riverboat\nRamblers Swing Orchestra\, który przeniesie nas w lat
	a 20. i 30.\, grając\nnajwiększe hity epoki w wyjątkowych aranżacjach.\n\n
	Przygotujcie się na koncert wspaniałego zespołu swingowego Riverboat Rambl
	ers\nSwing Orchestra w składzie:\n· Sergiej Kriuczkow (trąbka i śpiew)\n· 
	Hubert Świątek (piano)\n· Jurij Mieszczenko (kontrabas)\n· Adam Zagrodzki 
	(perkusja) \n\nPosłuchajcie\, jak wspaniale grają: https://www.youtube.com
	/watch?v=8VtKNgEKzug\n[https://www.youtube.com/watch?v=8VtKNgEKzug] \n\nWp
	adnij\, poznaj naszą wspaniałą społeczność\, przedstaw się i zatańcz z nam
	i.\nMoże zyskasz fajnych znajomych i nowe hobby? \n\nKonsulat Kultury (daw
	ny Dom Marynarza Szwedzkiego) jest wprost idealnym miejscem\nna takie wyda
	rzenie – tańczyć będziemy w modernistycznej perełce gdyńskiej\narchitektur
	y. Jeżeli lubisz szalony jazz lub klimatyczny blues lat 20. i 40.\noraz ch
	cesz przenieść się w te czasy razem z nami – przyjdź\, zobacz albo po\npro
	stu wskocz na parkiet i tańcz! Potrzebujesz pomocy\, aby postawić pierwsze
	\nkroki? Nic nie szkodzi – pomożemy Ci w tym 30-minutową lekcją tańca w pa
	rach.\nZabierz znajomych albo po prostu siebie i poczuj urok klimatycznej 
	kawiarni w\nKonsulacie Kultury.\n\nSwing – rodzina tańców afroamerykańskic
	h\, tańczonych do muzyki jazzowej. W jej\nskład wchodzą m.in [http://m.in]
	. tańce takie jak: Lindy Hop i Charleston. Swing\njest po brzegi wypełnion
	y radością\, improwizacją oraz pozytywną energią. Jazz\nlat 20.-40. to coś
	\, obok czego wprost nie sposób przejść obojętnie\, nie nucąc\nlub nie tup
	iąc do rytmu czy melodii.\n\nBlues – rodzina tańców afroamerykańskich tańc
	zonych do muzyki bluesowej z\npoczątku XX wieku aż do czasów współczesnych
	. W bluesie każdy znajdzie coś dla\nsiebie – od spokojnych i melancholijny
	ch melodii po bardzo energiczne gatunki\nbluesowe tańczone do szybkiej muz
	yki (np. szybki blues tradycyjny lub funk).\nMówi się\, że blues jest pods
	tawą tańców swingowych i najprostszym sposobem na\nwyrażenie siebie w tańc
	u.\n\nPlan wieczoru:\n20.00 – lekcja wprowadzająca tańca w parach\n20.40 –
	 pierwszy set zespołu\n21.25 – tańce do DJa \n21.45 – drugi set zespołu\n2
	2.30 – znani i lubiani DJe swingowi i bluesowi\n00.00 – zakończenie imprez
	y\n\nBILETY 35zł
URL:https://tricity.dance/event/roztanczony-konsulat-retro-party-w-klimacie
	-wielkiego-gatsbyego-or-urodziny-harlem-beats
GEO:54.5231974;18.5383392
LOCATION:Konsulat Kultury - ulica Jana z Kolna 25\, 81-351 Gdynia
STATUS:CONFIRMED
CATEGORIES:Gdynia,Koncert,Lindy hop,Muzyka na żywo,Swing
X-ALT-DESC;FMTTYPE=text/html:<p>Wieczór zaczniemy od lekcji tańca w rytmach
	 swingu, prowadzonej przez szkołę Harlem Beats. Następnie w wir tanecznej 
	zabawy wprowadzi Was zespół Riverboat Ramblers Swing Orchestra, który prze
	niesie nas w lata 20. i 30., grając największe hity epoki w wyjątkowych ar
	anżacjach.</p><p>Przygotujcie się na koncert wspaniałego zespołu swingoweg
	o&nbsp;<strong>Riverboat Ramblers Swing Orchestra</strong>&nbsp;w składzie
	:<br>· Sergiej Kriuczkow (trąbka i śpiew)<br>· Hubert Świątek (piano)<br>·
	 Jurij Mieszczenko (kontrabas)<br>· Adam Zagrodzki (perkusja)&nbsp;</p><p>
	Posłuchajcie, jak wspaniale grają:&nbsp;<a target="_blank" href="https://w
	ww.youtube.com/watch?v=8VtKNgEKzug">https://www.youtube.com/watch?v=8VtKNg
	EKzug</a>&nbsp;</p><p>Wpadnij, poznaj naszą wspaniałą społeczność, przedst
	aw się i zatańcz z nami. Może zyskasz fajnych znajomych i nowe hobby?&nbsp
	;</p><p><strong>Konsulat Kultury (dawny Dom Marynarza Szwedzkiego)</strong
	>&nbsp;jest wprost idealnym miejscem na takie wydarzenie – tańczyć będziem
	y w modernistycznej perełce gdyńskiej architektury. Jeżeli lubisz szalony 
	jazz lub klimatyczny blues lat 20. i 40. oraz chcesz przenieść się w te cz
	asy razem z nami – przyjdź, zobacz albo po prostu wskocz na parkiet i tańc
	z! Potrzebujesz pomocy, aby postawić pierwsze kroki? Nic nie szkodzi – pom
	ożemy Ci w tym 30-minutową lekcją tańca w parach. Zabierz znajomych albo p
	o prostu siebie i poczuj urok klimatycznej kawiarni w Konsulacie Kultury.<
	/p><p><strong>Swing</strong>&nbsp;– rodzina tańców afroamerykańskich, tańc
	zonych do muzyki jazzowej. W jej skład wchodzą <a target="_blank" href="ht
	tp://m.in">m.in</a>. tańce takie jak: Lindy Hop i Charleston. Swing jest p
	o brzegi wypełniony radością, improwizacją oraz pozytywną energią. Jazz la
	t 20.-40. to coś, obok czego wprost nie sposób przejść obojętnie, nie nucą
	c lub nie tupiąc do rytmu czy melodii.</p><p><strong>Blues</strong>&nbsp;–
	 rodzina tańców afroamerykańskich tańczonych do muzyki bluesowej z początk
	u XX wieku aż do czasów współczesnych. W bluesie każdy znajdzie coś dla si
	ebie – od spokojnych i melancholijnych melodii po bardzo energiczne gatunk
	i bluesowe tańczone do szybkiej muzyki (np. szybki blues tradycyjny lub fu
	nk). Mówi się, że blues jest podstawą tańców swingowych i najprostszym spo
	sobem na wyrażenie siebie w tańcu.</p><p><strong>Plan wieczoru:</strong><b
	r>20.00 – lekcja wprowadzająca tańca w parach<br>20.40 – pierwszy set zesp
	ołu<br>21.25 – tańce do DJa&nbsp;<br>21.45 – drugi set zespołu<br>22.30 – 
	znani i lubiani DJe swingowi i bluesowi<br>00.00 – zakończenie imprezy</p>
	<p><strong>BILETY 35zł</strong></p>
END:VEVENT
BEGIN:VEVENT
UID:92@tricity.dance
SUMMARY:Koncerty Swingujące 3-Miasto
DTSTAMP:20260420T214016Z
DTSTART:20240711T160000Z
DESCRIPTION:Czy będzie jakiś parkiet? Dunno\n\nhttps://muzeumsopotu.pl/even
	t/swingujace-3-miasto-2/\n[https://muzeumsopotu.pl/event/swingujace-3-mias
	to-2/]
URL:https://tricity.dance/event/koncerty-swingujace-3-miasto-1
LOCATION:Ogród Muzeum Sopotu - ul. Poniatowskiego 8\, Sopot
STATUS:CONFIRMED
CATEGORIES:Koncert,Plener,Sopot,Swing
X-ALT-DESC;FMTTYPE=text/html:<p>Czy będzie jakiś parkiet? Dunno<br><br><a h
	ref="https://muzeumsopotu.pl/event/swingujace-3-miasto-2/" target="_blank"
	>https://muzeumsopotu.pl/event/swingujace-3-miasto-2/</a></p>
END:VEVENT
END:VCALENDAR
