BEGIN:VCALENDAR
VERSION:2.0
CALSCALE:GREGORIAN
PRODID:adamgibbons/ics
METHOD:PUBLISH
X-PUBLISHED-TTL:PT1H
BEGIN:VEVENT
UID:88@tricity.dance
SUMMARY:Practice & CHILL | Wersja FAST FEET
DTSTAMP:20260421T025000Z
DTSTART:20240719T170000Z
DTEND:20240719T180000Z
DESCRIPTION:Przejdź na oryginalną stronę\n[https://swingrevolution.pl/wydar
	zenia/practice-chill-wersja-fast-feet/]\n\nWeź znajomych i spędź z nami wi
	eczór na tańcach i chilloucie w szybkim tempie👌\n\n19:00-20:00 PRACTICE & 
	CHILL wersja FAST FEET💪\n\nPractice to czas na taneczne rozkminy – solo\, 
	w parze i w większym gronie.\nNauczyłeś się super rzeczy na zajęciach? Świ
	etnie\, teraz pora wypróbować je na\nparkiecie na własną rękę. 😉 Tym razem
	\, będziemy puszczać muzykę w szybkim\ntempie!\n\n• nie zarządzamy żadnych
	 zmian w parach -> umów się z kimś lub wyhacz na miejscu\nkompana do ćwicz
	enia\,\n• śmiało pytaj o wskazówki obecnych na sali instruktorów – od tego
	 właśnie oni\ntam są!\n\nBrak Ci już tchu na tańce? Wpadaj na CHILL 🥳\nczy
	li pogaduchy\, planszówki (możesz przynieść swoje ulubione) i wszystko\, c
	zego\nWasza towarzyska dusza zapragnie\n\nWstęp:\nuczestnicy zajęć* – 10 z
	ł do słoika\npozostali: 20zł do słoika\n\n*szczęśliwi posiadacze aktualnyc
	h karnetów (w wersji wakacyjnej – uczestnicy\nchociaż jednego bloku zajęć 
	w miesiącu)\n\n\n\nWygenerowano Sat Jul 06 2024 14:04:52 GMT+0200 (Central
	 European Summer Time)\nŹródło [https://swingrevolution.pl/wydarzenia/prac
	tice-chill-wersja-fast-feet/]
URL:https://tricity.dance/event/practice-and-chill-or-wersja-fast-feet-1
GEO:54.3415864;18.6610012
LOCATION:Studio Swing Revolution Trójmiasto - ul. Łąkowa 35/38\, Gdańsk
STATUS:CONFIRMED
CATEGORIES:Balboa,Practice
X-ALT-DESC;FMTTYPE=text/html:<br>    <a href="https://swingrevolution.pl/wy
	darzenia/practice-chill-wersja-fast-feet/"><br>        <br>            Prz
	ejdź na oryginalną stronę<br>        <br>    </a><br><br><p>Weź znajomych 
	i spędź z nami wieczór na tańcach i chilloucie w szybkim tempie👌</p><p>19:
	00-20:00 PRACTICE &amp; CHILL wersja FAST FEET💪</p><p>Practice to czas na 
	taneczne rozkminy – solo, w parze i w większym gronie. Nauczyłeś się super
	 rzeczy na zajęciach? Świetnie, teraz pora wypróbować je na parkiecie na w
	łasną rękę. 😉 Tym razem, będziemy puszczać muzykę w szybkim tempie!</p><p>
	• nie zarządzamy żadnych zmian w parach -&gt; umów się z kimś lub wyhacz n
	a miejscu kompana do ćwiczenia,<br>• śmiało pytaj o wskazówki obecnych na 
	sali instruktorów – od tego właśnie oni tam są!</p><p>Brak Ci już tchu na 
	tańce? Wpadaj na CHILL 🥳<br>czyli pogaduchy, planszówki (możesz przynieść 
	swoje ulubione) i wszystko, czego Wasza towarzyska dusza zapragnie</p><p>W
	stęp:<br>uczestnicy zajęć* – 10 zł do słoika<br>pozostali: 20zł do słoika<
	/p><p>*szczęśliwi posiadacze aktualnych karnetów (w wersji wakacyjnej – uc
	zestnicy chociaż jednego bloku zajęć w miesiącu)</p><br><br><br><br><br><i
	>Wygenerowano Sat Jul 06 2024 14:04:52 GMT+0200 (Central European Summer T
	ime)<br><br><a href="https://swingrevolution.pl/wydarzenia/practice-chill-
	wersja-fast-feet/">Źródło</a><br></i>
END:VEVENT
BEGIN:VEVENT
UID:68@tricity.dance
SUMMARY:Practice & CHILL
DTSTAMP:20260421T025000Z
DTSTART:20240705T180000Z
DTEND:20240705T200000Z
DESCRIPTION:Przejdź na oryginalną stronę\n[https://swingrevolution.pl/wydar
	zenia/practice-chill/]\n\nWeź znajomych i spędź z nami wieczór na tańcach 
	i chilloucie 👌\n\n20:00-22:00 PRACTICE & CHILL💪\n\nPractice to czas na tan
	eczne rozkminy – solo\, w parze i w większym gronie.\nNauczyłeś się super 
	rzeczy na zajęciach? Świetnie\, teraz pora wypróbować je na\nparkiecie na 
	własną rękę. 😉\n• nie zarządzamy żadnych zmian w parach -> umów się z kimś
	 lub wyhacz na miejscu\nkompana do ćwiczenia\,\n• śmiało pytaj o wskazówki
	 obecnych na sali instruktorów – od tego właśnie oni\ntam są!\n\nBrak Ci j
	uż tchu na tańce? Wpadaj na CHILL 🥳\nczyli pogaduchy\, planszówki (możesz 
	przynieść swoje ulubione) i wszystko\, czego\nWasza towarzyska dusza zapra
	gnie\n\n\n\nWygenerowano Fri Jul 05 2024 20:18:43 GMT+0200 (Central Europe
	an Summer Time)\nŹródło [https://swingrevolution.pl/wydarzenia/practice-ch
	ill/]
URL:https://tricity.dance/event/srt-practice-and-chill-1
GEO:54.3415864;18.6610012
LOCATION:Studio Swing Revolution Trójmiasto - ul. Łąkowa 35/38\, Gdańsk
STATUS:CONFIRMED
CATEGORIES:Practice,Swing
X-ALT-DESC;FMTTYPE=text/html:<br>    <a href="https://swingrevolution.pl/wy
	darzenia/practice-chill/"><br>        <br>            Przejdź na oryginaln
	ą stronę<br>        <br>    </a><br><br><p>Weź znajomych i spędź z nami wi
	eczór na tańcach i chilloucie 👌</p><p>20:00-22:00 PRACTICE &amp; CHILL💪</p
	><p>Practice to czas na taneczne rozkminy – solo, w parze i w większym gro
	nie. Nauczyłeś się super rzeczy na zajęciach? Świetnie, teraz pora wypróbo
	wać je na parkiecie na własną rękę. 😉<br>• nie zarządzamy żadnych zmian w 
	parach -&gt; umów się z kimś lub wyhacz na miejscu kompana do ćwiczenia,<b
	r>• śmiało pytaj o wskazówki obecnych na sali instruktorów – od tego właśn
	ie oni tam są!</p><p>Brak Ci już tchu na tańce? Wpadaj na CHILL 🥳<br>czyli
	 pogaduchy, planszówki (możesz przynieść swoje ulubione) i wszystko, czego
	 Wasza towarzyska dusza zapragnie</p><br><br><br><br><br><i>Wygenerowano F
	ri Jul 05 2024 20:18:43 GMT+0200 (Central European Summer Time)<br><br><a 
	href="https://swingrevolution.pl/wydarzenia/practice-chill/">Źródło</a><br
	></i>
END:VEVENT
BEGIN:VEVENT
UID:72@tricity.dance
SUMMARY:Practice & CHILL | Wersja FAST FEET
DTSTAMP:20260421T025000Z
DTSTART:20240705T170000Z
DTEND:20240705T180000Z
DESCRIPTION:Przejdź na oryginalną stronę\n[https://swingrevolution.pl/wydar
	zenia/practice-chill-wersja-fast-feet/]\n\nWeź znajomych i spędź z nami wi
	eczór na tańcach i chilloucie w szybkim tempie👌\n\n19:00-20:00 PRACTICE & 
	CHILL wersja FAST FEET💪\n\nPractice to czas na taneczne rozkminy – solo\, 
	w parze i w większym gronie.\nNauczyłeś się super rzeczy na zajęciach? Świ
	etnie\, teraz pora wypróbować je na\nparkiecie na własną rękę. 😉 Tym razem
	\, będziemy puszczać muzykę w szybkim\ntempie!\n\n• nie zarządzamy żadnych
	 zmian w parach -> umów się z kimś lub wyhacz na miejscu\nkompana do ćwicz
	enia\,\n• śmiało pytaj o wskazówki obecnych na sali instruktorów – od tego
	 właśnie oni\ntam są!\n\nBrak Ci już tchu na tańce? Wpadaj na CHILL 🥳\nczy
	li pogaduchy\, planszówki (możesz przynieść swoje ulubione) i wszystko\, c
	zego\nWasza towarzyska dusza zapragnie\n\nWstęp:\nuczestnicy zajęć* – 10 z
	ł do słoika\npozostali: 20zł do słoika\n\n*szczęśliwi posiadacze aktualnyc
	h karnetów (w wersji wakacyjnej – uczestnicy\nchociaż jednego bloku zajęć 
	w miesiącu)\n\n\n\nWygenerowano Fri Jul 05 2024 18:47:47 GMT+0200 (Central
	 European Summer Time)\nŹródło [https://swingrevolution.pl/wydarzenia/prac
	tice-chill-wersja-fast-feet/]
URL:https://tricity.dance/event/srt-practice-and-chill-wersja-fast-feet-1
GEO:54.3415864;18.6610012
LOCATION:Studio Swing Revolution Trójmiasto - ul. Łąkowa 35/38\, Gdańsk
STATUS:CONFIRMED
CATEGORIES:Balboa,Practice
X-ALT-DESC;FMTTYPE=text/html:<br>    <a href="https://swingrevolution.pl/wy
	darzenia/practice-chill-wersja-fast-feet/"><br>        <br>            Prz
	ejdź na oryginalną stronę<br>        <br>    </a><br><br><p>Weź znajomych 
	i spędź z nami wieczór na tańcach i chilloucie w szybkim tempie👌</p><p>19:
	00-20:00 PRACTICE &amp; CHILL wersja FAST FEET💪</p><p>Practice to czas na 
	taneczne rozkminy – solo, w parze i w większym gronie. Nauczyłeś się super
	 rzeczy na zajęciach? Świetnie, teraz pora wypróbować je na parkiecie na w
	łasną rękę. 😉 Tym razem, będziemy puszczać muzykę w szybkim tempie!</p><p>
	• nie zarządzamy żadnych zmian w parach -&gt; umów się z kimś lub wyhacz n
	a miejscu kompana do ćwiczenia,<br>• śmiało pytaj o wskazówki obecnych na 
	sali instruktorów – od tego właśnie oni tam są!</p><p>Brak Ci już tchu na 
	tańce? Wpadaj na CHILL 🥳<br>czyli pogaduchy, planszówki (możesz przynieść 
	swoje ulubione) i wszystko, czego Wasza towarzyska dusza zapragnie</p><p>W
	stęp:<br>uczestnicy zajęć* – 10 zł do słoika<br>pozostali: 20zł do słoika<
	/p><p>*szczęśliwi posiadacze aktualnych karnetów (w wersji wakacyjnej – uc
	zestnicy chociaż jednego bloku zajęć w miesiącu)</p><br><br><br><br><br><i
	>Wygenerowano Fri Jul 05 2024 18:47:47 GMT+0200 (Central European Summer T
	ime)<br><br><a href="https://swingrevolution.pl/wydarzenia/practice-chill-
	wersja-fast-feet/">Źródło</a><br></i>
END:VEVENT
END:VCALENDAR
