BEGIN:VCALENDAR
VERSION:2.0
CALSCALE:GREGORIAN
PRODID:adamgibbons/ics
METHOD:PUBLISH
X-PUBLISHED-TTL:PT1H
BEGIN:VEVENT
UID:45@tricity.dance
SUMMARY:Praktis
DTSTAMP:20260420T111830Z
DTSTART:20240628T182500Z
DTEND:20240628T200000Z
URL:https://tricity.dance/event/praktis-17
GEO:54.3415864;18.6610012
LOCATION:Studio Swing Revolution Trójmiasto - ul. Łąkowa 35/38\, Gdańsk
STATUS:CONFIRMED
CATEGORIES:Praktis,Swing,Swing Revolution Trójmiasto
END:VEVENT
BEGIN:VEVENT
UID:42@tricity.dance
SUMMARY:Praktis
DTSTAMP:20260420T111830Z
DTSTART:20240614T182500Z
DTEND:20240614T200000Z
URL:https://tricity.dance/event/praktis-16
GEO:54.3415864;18.6610012
LOCATION:Studio Swing Revolution Trójmiasto - ul. Łąkowa 35/38\, Gdańsk
STATUS:CONFIRMED
CATEGORIES:Swing,Praktis
END:VEVENT
BEGIN:VEVENT
UID:36@tricity.dance
SUMMARY:Speed Friending & Practise
DTSTAMP:20260420T111830Z
DTSTART:20240607T183000Z
DTEND:20240607T210000Z
DESCRIPTION:Czołem Załogo!\n\nJesteś nowy/a na naszym swingowym pokładzie? 
	A może już trochę chodzisz na\nzajęcia\, jednak nigdy nie miałeś/aś okazji
	 do pogadania i poznania innych? Albo\npo prostu... ciężko Ci zagadać do n
	ieznajomej osoby? - Chcemy tworzyć z wami\nspołeczność wokół dobrze nam zn
	anej miłości do tańca\, dlatego wychodzimy\nnaprzeciw wszelkim barierom i 
	każdego zapraszamy na SPEED FRIENDING - czyli\nszybko\, przyjaźnie i przed
	e wszystkim bezboleśnie.\n\nJak będzie to wyglądać?\nW zależności od ilośc
	i chętnych osób będą organizowane tury. Podczas jednej\ntakiej\, siedzimy 
	sobie naprzeciwko i przez 3 minuty próbujemy się poznać. Po 3\nkrótkich (l
	ub dla niektórych długich ) minutach\, jeden rząd osób zmienia się o\njedn
	o miejsce i tak do momentu\, aż wszyscy będą mieli okazje ze sobą\nporozma
	wiać. Spokojna głowa prowadząca będzie kontrolowała czas i przebieg\nzabaw
	y. Nie ma zapisów\, po prostu przyjdź!\n\nA co jeśli nie wiem\, o czym gad
	ać?\nCzasem Small-talk to ostatnie\, o czym marzymy... dlatego przygotujem
	y pytania\npomocnicze i na każdą osobę\, przypadać będzie jedno takie\, kt
	óre być może\nuratuje was przed krępującą ciszą Jest jedno\, ALE... mianow
	icie\, za ułatwienie\,\nmusi zostać naliczony odpowiedni koszt - wśród pul
	i pytań do wylosowania\, będą\nteż takie mniej komfortowe... - nie wiadomo
	 więc czy to\, co wylosujesz\, na pewno\nokaże się ułatwieniem Jednak jedn
	o jest pewne - będzie dobra zabawa!\n\nKto może przyjść?\nKażdy. Mało tego
	... Instruktorów i pracowników naszej szkoły też zapraszamy!\nKażdy\, każd
	y\, każdy!\n\nCzy czegoś potrzebuję?\nChęci i odrobinę otwartości Resztą s
	ię zajmiemy\n\nCo dalej?\nPo jakże emocjonalnej rozgrzewce zapraszamy na n
	asz parkiet Practice zacznie się\npo wszystkich turach. Jeśli nie brałaś/e
	ś udziału w speed friendingu\, możesz\nprzyjść tylko poćwiczyć - dla takic
	h osób wejście 10 zł\, uczestnicy - wejście za\nfree\n\nCo\, Gdzie\, Kiedy
	?\nPiątek 07 czerwca 2024\n· Speed ~ Friending: start godz. 20:30\n· Pract
	ice: start ok. 21:30\n· Miejsce: Studio Swing Revolution Trójmiasto\, ul. 
	Łąkowa 35/38\, Gdańsk (wejście\nnr 4 od strony dziedzińca\, I piętro\, drz
	wi po prawej).\n· Cena:\nudział w speedfriendingu - free\n~ uczestnik spee
	d-friendingu wchodzi na practice za free\n~ a gdy nie bawisz się z nami i 
	przychodzisz tylko na pparkiet - 10 zł do słoika
URL:https://tricity.dance/event/speef-friending-and-practise
GEO:54.3415864;18.6610012
LOCATION:Studio Swing Revolution Trójmiasto - ul. Łąkowa 35/38\, Gdańsk
STATUS:CONFIRMED
CATEGORIES:Gdańsk,Swing Revolution Trójmiasto,Praktis
X-ALT-DESC;FMTTYPE=text/html:<p>Czołem Załogo!</p><p>Jesteś nowy/a na naszy
	m swingowym pokładzie? A może już trochę chodzisz na zajęcia, jednak nigdy
	 nie miałeś/aś okazji do pogadania i poznania innych? Albo po prostu... ci
	ężko Ci zagadać do nieznajomej osoby? - Chcemy tworzyć z wami społeczność 
	wokół dobrze nam znanej miłości do tańca, dlatego wychodzimy naprzeciw wsz
	elkim barierom i każdego zapraszamy na SPEED FRIENDING - czyli szybko, prz
	yjaźnie i przede wszystkim bezboleśnie.</p><p>Jak będzie to wyglądać?<br>W
	 zależności od ilości chętnych osób będą organizowane tury. Podczas jednej
	 takiej, siedzimy sobie naprzeciwko i przez 3 minuty próbujemy się poznać.
	 Po 3 krótkich (lub dla niektórych długich ) minutach, jeden rząd osób zmi
	enia się o jedno miejsce i tak do momentu, aż wszyscy będą mieli okazje ze
	 sobą porozmawiać. Spokojna głowa prowadząca będzie kontrolowała czas i pr
	zebieg zabawy. Nie ma zapisów, po prostu przyjdź!</p><p>A co jeśli nie wie
	m, o czym gadać?<br>Czasem Small-talk to ostatnie, o czym marzymy... dlate
	go przygotujemy pytania pomocnicze i na każdą osobę, przypadać będzie jedn
	o takie, które być może uratuje was przed krępującą ciszą Jest jedno, ALE.
	.. mianowicie, za ułatwienie, musi zostać naliczony odpowiedni koszt - wśr
	ód puli pytań do wylosowania, będą też takie mniej komfortowe... - nie wia
	domo więc czy to, co wylosujesz, na pewno okaże się ułatwieniem Jednak jed
	no jest pewne - będzie dobra zabawa!</p><p>Kto może przyjść?<br>Każdy. Mał
	o tego... Instruktorów i pracowników naszej szkoły też zapraszamy! Każdy, 
	każdy, każdy!</p><p>Czy czegoś potrzebuję?<br>Chęci i odrobinę otwartości 
	Resztą się zajmiemy</p><p>Co dalej?<br>Po jakże emocjonalnej rozgrzewce za
	praszamy na nasz parkiet Practice zacznie się po wszystkich turach. Jeśli 
	nie brałaś/eś udziału w speed friendingu, możesz przyjść tylko poćwiczyć -
	 dla takich osób wejście 10 zł, uczestnicy - wejście za free</p><p>Co, Gdz
	ie, Kiedy?<br>Piątek 07 czerwca 2024<br>· Speed ~ Friending: start godz. 2
	0:30<br>· Practice: start ok. 21:30<br>· Miejsce: Studio Swing Revolution 
	Trójmiasto, ul. Łąkowa 35/38, Gdańsk (wejście nr 4 od strony dziedzińca, I
	 piętro, drzwi po prawej).<br>· Cena:<br><s> udział w speed</s>friendingu 
	- free<br>~ uczestnik speed-friendingu wchodzi na practice za free<br>~ a 
	gdy nie bawisz się z nami i przychodzisz tylko na pparkiet - 10 zł do słoi
	ka</p>
END:VEVENT
BEGIN:VEVENT
UID:40@tricity.dance
SUMMARY:Praktis
DTSTAMP:20260420T111830Z
DTSTART:20240607T182500Z
DTEND:20240607T200000Z
URL:https://tricity.dance/event/praktis-15
GEO:54.3415864;18.6610012
LOCATION:Studio Swing Revolution Trójmiasto - ul. Łąkowa 35/38\, Gdańsk
STATUS:CONFIRMED
CATEGORIES:Swing,Praktis
END:VEVENT
BEGIN:VEVENT
UID:37@tricity.dance
SUMMARY:Praktis
DTSTAMP:20260420T111830Z
DTSTART:20240531T182500Z
DTEND:20240531T200000Z
URL:https://tricity.dance/event/praktis-14
GEO:54.3415864;18.6610012
LOCATION:Studio Swing Revolution Trójmiasto - ul. Łąkowa 35/38\, Gdańsk
STATUS:CONFIRMED
CATEGORIES:Swing,Praktis
END:VEVENT
BEGIN:VEVENT
UID:31@tricity.dance
SUMMARY:Praktis
DTSTAMP:20260420T111830Z
DTSTART:20240524T182500Z
DTEND:20240524T200000Z
URL:https://tricity.dance/event/praktis-13
GEO:54.3415864;18.6610012
LOCATION:Studio Swing Revolution Trójmiasto - ul. Łąkowa 35/38\, Gdańsk
STATUS:CONFIRMED
CATEGORIES:Swing,Praktis
END:VEVENT
BEGIN:VEVENT
UID:29@tricity.dance
SUMMARY:Praktis
DTSTAMP:20260420T111830Z
DTSTART:20240517T182500Z
DTEND:20240517T200000Z
URL:https://tricity.dance/event/praktis-12
GEO:54.3415864;18.6610012
LOCATION:Studio Swing Revolution Trójmiasto - ul. Łąkowa 35/38\, Gdańsk
STATUS:CONFIRMED
CATEGORIES:Praktis,Swing
END:VEVENT
BEGIN:VEVENT
UID:25@tricity.dance
SUMMARY:Praktis
DTSTAMP:20260420T111830Z
DTSTART:20240510T182500Z
DTEND:20240510T200000Z
URL:https://tricity.dance/event/praktis-11
GEO:54.3415864;18.6610012
LOCATION:Studio Swing Revolution Trójmiasto - ul. Łąkowa 35/38\, Gdańsk
STATUS:CONFIRMED
CATEGORIES:Swing,Praktis
END:VEVENT
BEGIN:VEVENT
UID:15@tricity.dance
SUMMARY:Praktis
DTSTAMP:20260420T111830Z
DTSTART:20240503T182500Z
DTEND:20240503T200000Z
URL:https://tricity.dance/event/praktis-10
GEO:54.3415864;18.6610012
LOCATION:Studio Swing Revolution Trójmiasto - ul. Łąkowa 35/38\, Gdańsk
STATUS:CONFIRMED
CATEGORIES:Swing,Praktis
END:VEVENT
BEGIN:VEVENT
UID:14@tricity.dance
SUMMARY:Praktis
DTSTAMP:20260420T111830Z
DTSTART:20240426T182500Z
DTEND:20240426T200000Z
URL:https://tricity.dance/event/praktis-9
GEO:54.3415864;18.6610012
LOCATION:Studio Swing Revolution Trójmiasto - ul. Łąkowa 35/38\, Gdańsk
STATUS:CONFIRMED
CATEGORIES:Praktis,Swing
END:VEVENT
BEGIN:VEVENT
UID:13@tricity.dance
SUMMARY:Praktis
DTSTAMP:20260420T111830Z
DTSTART:20240419T182500Z
DTEND:20240419T200000Z
URL:https://tricity.dance/event/praktis-8
GEO:54.3415864;18.6610012
LOCATION:Studio Swing Revolution Trójmiasto - ul. Łąkowa 35/38\, Gdańsk
STATUS:CONFIRMED
CATEGORIES:Swing,Praktis
END:VEVENT
BEGIN:VEVENT
UID:12@tricity.dance
SUMMARY:Praktis
DTSTAMP:20260420T111830Z
DTSTART:20240412T182500Z
DTEND:20240412T200000Z
URL:https://tricity.dance/event/praktis-7
GEO:54.3415864;18.6610012
LOCATION:Studio Swing Revolution Trójmiasto - ul. Łąkowa 35/38\, Gdańsk
STATUS:CONFIRMED
CATEGORIES:Praktis,Swing
END:VEVENT
BEGIN:VEVENT
UID:11@tricity.dance
SUMMARY:Praktis
DTSTAMP:20260420T111830Z
DTSTART:20240405T182500Z
DTEND:20240405T200000Z
URL:https://tricity.dance/event/praktis-6
GEO:54.3415864;18.6610012
LOCATION:Studio Swing Revolution Trójmiasto - ul. Łąkowa 35/38\, Gdańsk
STATUS:CONFIRMED
CATEGORIES:Swing,Praktis
END:VEVENT
BEGIN:VEVENT
UID:10@tricity.dance
SUMMARY:Praktis
DTSTAMP:20260420T111830Z
DTSTART:20240329T192500Z
DTEND:20240329T210000Z
URL:https://tricity.dance/event/praktis-5
GEO:54.3415864;18.6610012
LOCATION:Studio Swing Revolution Trójmiasto - ul. Łąkowa 35/38\, Gdańsk
STATUS:CONFIRMED
CATEGORIES:Swing,Praktis
END:VEVENT
BEGIN:VEVENT
UID:9@tricity.dance
SUMMARY:Praktis
DTSTAMP:20260420T111830Z
DTSTART:20240322T192500Z
DTEND:20240322T210000Z
URL:https://tricity.dance/event/praktis-4
GEO:54.3415864;18.6610012
LOCATION:Studio Swing Revolution Trójmiasto - ul. Łąkowa 35/38\, Gdańsk
STATUS:CONFIRMED
CATEGORIES:Praktis,Swing
END:VEVENT
BEGIN:VEVENT
UID:8@tricity.dance
SUMMARY:Praktis
DTSTAMP:20260420T111830Z
DTSTART:20240315T192500Z
DTEND:20240315T210000Z
URL:https://tricity.dance/event/praktis-3
GEO:54.3415864;18.6610012
LOCATION:Studio Swing Revolution Trójmiasto - ul. Łąkowa 35/38\, Gdańsk
STATUS:CONFIRMED
CATEGORIES:Praktis,Swing
END:VEVENT
BEGIN:VEVENT
UID:7@tricity.dance
SUMMARY:Praktis
DTSTAMP:20260420T111830Z
DTSTART:20240308T192500Z
DTEND:20240308T210000Z
URL:https://tricity.dance/event/praktis-2
GEO:54.3415864;18.6610012
LOCATION:Studio Swing Revolution Trójmiasto - ul. Łąkowa 35/38\, Gdańsk
STATUS:CONFIRMED
CATEGORIES:Praktis,Swing
END:VEVENT
BEGIN:VEVENT
UID:5@tricity.dance
SUMMARY:Praktis
DTSTAMP:20260420T111830Z
DTSTART:20240301T192500Z
DTEND:20240301T210000Z
URL:https://tricity.dance/event/praktis-1
GEO:54.3415864;18.6610012
LOCATION:Studio Swing Revolution Trójmiasto - ul. Łąkowa 35/38\, Gdańsk
STATUS:CONFIRMED
CATEGORIES:Praktis,Swing
END:VEVENT
END:VCALENDAR
