BEGIN:VCALENDAR
VERSION:2.0
CALSCALE:GREGORIAN
PRODID:adamgibbons/ics
METHOD:PUBLISH
X-PUBLISHED-TTL:PT1H
BEGIN:VEVENT
UID:291@tricity.dance
SUMMARY:Muzyczne lato z Energą
DTSTAMP:20260422T085309Z
DTSTART:20250809T153000Z
DTEND:20250809T170000Z
DESCRIPTION:Muzyczne Lato z Energą\n\nSponsor Główny Energa Grupa Orlen\n\n
	Cykl 5 Warsztatów Muzycznych\n"Mała Akademia Bluesa" dla najmłodszych & KO
	NCERTY\n\nWSTĘP WOLNY\n\nGDZIE: Amfiteatr Kamienna Góra\nWarsztaty 16:00\n
	Koncerty 17:30\n\nPROGRAM\n12.07 Mr.Shorty\n19.07 Jacek Siciarek Trio\n26.
	07 Jo & Lazy Fellow\n2.08 Cotton Wing\n9.08 Radunia River Jazz Band\n\nOrg
	anizator : Blues Club\n\nPartner Miasto Gdynia\nPatronat medialny\nRadio G
	dańsk // Trojmiasto.pl\n[https://l.facebook.com/l.php?u=http%3A%2F%2FTrojm
	iasto.pl%2F%3Ffbclid%3DIwZXh0bgNhZW0CMTAAYnJpZBExTFhmejJaVFFVbXViZjBCYgEem
	km12G1MtGPY5dgiHVNs1VxGC3mDZPetHO7TP8AsBE_EZSz3nOany54efNg_aem_o84KGV8ADia
	TTwxf9bAZFw&h=AT2AsWlXbWUacuqGi2vB8Ujt5xcwCnjh5Sca2MdS0HT5zjCym1O4HkNTiZ7S
	I4Bb_263yFqMqQSbF1TZaikBQVstivrcAc6WjTkhhiJddXarC2rIsuHKlIfdMojrlc_mCZYqNG
	fP7z2tc4Id&__tn__=q&c[0]=AT1ggfZsRBVkkFn8fpLN-BmhlE7j695j0twQmU4VuXdXpGBjS
	1jB2iiwztZyOERdkvgGqMxyfvH8LZTDHHHq0_DFMvGG_km6pSQ698yCDevcOk40jL-dm7Bx4bV
	OMcundsoUhRJNUlBY9di8XAWM4tVmsDptYJlkEys]\n// Dziennik Bałtycki
URL:https://tricity.dance/event/muzyczne-lato-z-energa-5
LOCATION:Amfiteatr Kamienna Góra - ul. Kamienna Góra\, Gdynia
STATUS:CONFIRMED
CATEGORIES:Blues,cykliczne,Muzyka na żywo,Gdynia
X-ALT-DESC;FMTTYPE=text/html:<p>Muzyczne Lato z Energą</p><p>Sponsor Główny
	 Energa Grupa Orlen</p><p>Cykl 5 Warsztatów Muzycznych<br>"Mała Akademia B
	luesa" dla najmłodszych &amp; KONCERTY</p><p>WSTĘP WOLNY</p><p>GDZIE: Amfi
	teatr Kamienna Góra<br>Warsztaty 16:00<br>Koncerty 17:30</p><p>PROGRAM<br>
	12.07 Mr.Shorty<br>19.07 Jacek Siciarek Trio<br>26.07 Jo &amp; Lazy Fellow
	<br>2.08 Cotton Wing<br>9.08 Radunia River Jazz Band</p><p>Organizator : B
	lues Club</p><p>Partner Miasto Gdynia<br>Patronat medialny<br>Radio Gdańsk
	 // <a target="_blank" href="https://l.facebook.com/l.php?u=http%3A%2F%2FT
	rojmiasto.pl%2F%3Ffbclid%3DIwZXh0bgNhZW0CMTAAYnJpZBExTFhmejJaVFFVbXViZjBCY
	gEemkm12G1MtGPY5dgiHVNs1VxGC3mDZPetHO7TP8AsBE_EZSz3nOany54efNg_aem_o84KGV8
	ADiaTTwxf9bAZFw&amp;h=AT2AsWlXbWUacuqGi2vB8Ujt5xcwCnjh5Sca2MdS0HT5zjCym1O4
	HkNTiZ7SI4Bb_263yFqMqQSbF1TZaikBQVstivrcAc6WjTkhhiJddXarC2rIsuHKlIfdMojrlc
	_mCZYqNGfP7z2tc4Id&amp;__tn__=q&amp;c[0]=AT1ggfZsRBVkkFn8fpLN-BmhlE7j695j0
	twQmU4VuXdXpGBjS1jB2iiwztZyOERdkvgGqMxyfvH8LZTDHHHq0_DFMvGG_km6pSQ698yCDev
	cOk40jL-dm7Bx4bVOMcundsoUhRJNUlBY9di8XAWM4tVmsDptYJlkEys"><strong>Trojmias
	to.pl</strong></a> // Dziennik Bałtycki</p>
END:VEVENT
BEGIN:VEVENT
UID:286@tricity.dance
SUMMARY:Muzyczne lato z Energą
DTSTAMP:20260422T085309Z
DTSTART:20250802T153000Z
DTEND:20250802T170000Z
DESCRIPTION:Muzyczne Lato z Energą\n\nSponsor Główny Energa Grupa Orlen\n\n
	Cykl 5 Warsztatów Muzycznych\n"Mała Akademia Bluesa" dla najmłodszych & KO
	NCERTY\n\nWSTĘP WOLNY\n\nGDZIE: Amfiteatr Kamienna Góra\nWarsztaty 16:00\n
	Koncerty 17:30\n\nPROGRAM\n12.07 Mr.Shorty\n19.07 Jacek Siciarek Trio\n26.
	07 Jo & Lazy Fellow\n2.08 Cotton Wing\n9.08 Radunia River Jazz Band\n\nOrg
	anizator : Blues Club\n\nPartner Miasto Gdynia\nPatronat medialny\nRadio G
	dańsk // Trojmiasto.pl\n[https://l.facebook.com/l.php?u=http%3A%2F%2FTrojm
	iasto.pl%2F%3Ffbclid%3DIwZXh0bgNhZW0CMTAAYnJpZBExTFhmejJaVFFVbXViZjBCYgEem
	km12G1MtGPY5dgiHVNs1VxGC3mDZPetHO7TP8AsBE_EZSz3nOany54efNg_aem_o84KGV8ADia
	TTwxf9bAZFw&h=AT2AsWlXbWUacuqGi2vB8Ujt5xcwCnjh5Sca2MdS0HT5zjCym1O4HkNTiZ7S
	I4Bb_263yFqMqQSbF1TZaikBQVstivrcAc6WjTkhhiJddXarC2rIsuHKlIfdMojrlc_mCZYqNG
	fP7z2tc4Id&__tn__=q&c[0]=AT1ggfZsRBVkkFn8fpLN-BmhlE7j695j0twQmU4VuXdXpGBjS
	1jB2iiwztZyOERdkvgGqMxyfvH8LZTDHHHq0_DFMvGG_km6pSQ698yCDevcOk40jL-dm7Bx4bV
	OMcundsoUhRJNUlBY9di8XAWM4tVmsDptYJlkEys]\n// Dziennik Bałtycki
URL:https://tricity.dance/event/muzyczne-lato-z-energa-4
LOCATION:Amfiteatr Kamienna Góra - ul. Kamienna Góra\, Gdynia
STATUS:CONFIRMED
CATEGORIES:Blues,Gdynia,Muzyka na żywo,cykliczne
X-ALT-DESC;FMTTYPE=text/html:<p>Muzyczne Lato z Energą</p><p>Sponsor Główny
	 Energa Grupa Orlen</p><p>Cykl 5 Warsztatów Muzycznych<br>"Mała Akademia B
	luesa" dla najmłodszych &amp; KONCERTY</p><p>WSTĘP WOLNY</p><p>GDZIE: Amfi
	teatr Kamienna Góra<br>Warsztaty 16:00<br>Koncerty 17:30</p><p>PROGRAM<br>
	12.07 Mr.Shorty<br>19.07 Jacek Siciarek Trio<br>26.07 Jo &amp; Lazy Fellow
	<br>2.08 Cotton Wing<br>9.08 Radunia River Jazz Band</p><p>Organizator : B
	lues Club</p><p>Partner Miasto Gdynia<br>Patronat medialny<br>Radio Gdańsk
	 // <a target="_blank" href="https://l.facebook.com/l.php?u=http%3A%2F%2FT
	rojmiasto.pl%2F%3Ffbclid%3DIwZXh0bgNhZW0CMTAAYnJpZBExTFhmejJaVFFVbXViZjBCY
	gEemkm12G1MtGPY5dgiHVNs1VxGC3mDZPetHO7TP8AsBE_EZSz3nOany54efNg_aem_o84KGV8
	ADiaTTwxf9bAZFw&amp;h=AT2AsWlXbWUacuqGi2vB8Ujt5xcwCnjh5Sca2MdS0HT5zjCym1O4
	HkNTiZ7SI4Bb_263yFqMqQSbF1TZaikBQVstivrcAc6WjTkhhiJddXarC2rIsuHKlIfdMojrlc
	_mCZYqNGfP7z2tc4Id&amp;__tn__=q&amp;c[0]=AT1ggfZsRBVkkFn8fpLN-BmhlE7j695j0
	twQmU4VuXdXpGBjS1jB2iiwztZyOERdkvgGqMxyfvH8LZTDHHHq0_DFMvGG_km6pSQ698yCDev
	cOk40jL-dm7Bx4bVOMcundsoUhRJNUlBY9di8XAWM4tVmsDptYJlkEys"><strong>Trojmias
	to.pl</strong></a> // Dziennik Bałtycki</p>
END:VEVENT
BEGIN:VEVENT
UID:280@tricity.dance
SUMMARY:Muzyczne lato z Energą
DTSTAMP:20260422T085309Z
DTSTART:20250726T153000Z
DTEND:20250726T170000Z
DESCRIPTION:Muzyczne Lato z Energą\n\nSponsor Główny Energa Grupa Orlen\n\n
	Cykl 5 Warsztatów Muzycznych\n"Mała Akademia Bluesa" dla najmłodszych & KO
	NCERTY\n\nWSTĘP WOLNY\n\nGDZIE: Amfiteatr Kamienna Góra\nWarsztaty 16:00\n
	Koncerty 17:30\n\nPROGRAM\n12.07 Mr.Shorty\n19.07 Jacek Siciarek Trio\n26.
	07 Jo & Lazy Fellow\n2.08 Cotton Wing\n9.08 Radunia River Jazz Band\n\nOrg
	anizator : Blues Club\n\nPartner Miasto Gdynia\nPatronat medialny\nRadio G
	dańsk // Trojmiasto.pl\n[https://l.facebook.com/l.php?u=http%3A%2F%2FTrojm
	iasto.pl%2F%3Ffbclid%3DIwZXh0bgNhZW0CMTAAYnJpZBExTFhmejJaVFFVbXViZjBCYgEem
	km12G1MtGPY5dgiHVNs1VxGC3mDZPetHO7TP8AsBE_EZSz3nOany54efNg_aem_o84KGV8ADia
	TTwxf9bAZFw&h=AT2AsWlXbWUacuqGi2vB8Ujt5xcwCnjh5Sca2MdS0HT5zjCym1O4HkNTiZ7S
	I4Bb_263yFqMqQSbF1TZaikBQVstivrcAc6WjTkhhiJddXarC2rIsuHKlIfdMojrlc_mCZYqNG
	fP7z2tc4Id&__tn__=q&c[0]=AT1ggfZsRBVkkFn8fpLN-BmhlE7j695j0twQmU4VuXdXpGBjS
	1jB2iiwztZyOERdkvgGqMxyfvH8LZTDHHHq0_DFMvGG_km6pSQ698yCDevcOk40jL-dm7Bx4bV
	OMcundsoUhRJNUlBY9di8XAWM4tVmsDptYJlkEys]\n// Dziennik Bałtycki
URL:https://tricity.dance/event/muzyczne-lato-z-energa-3
LOCATION:Amfiteatr Kamienna Góra - ul. Kamienna Góra\, Gdynia
STATUS:CONFIRMED
CATEGORIES:cykliczne,Blues,Gdynia,Muzyka na żywo
X-ALT-DESC;FMTTYPE=text/html:<p>Muzyczne Lato z Energą</p><p>Sponsor Główny
	 Energa Grupa Orlen</p><p>Cykl 5 Warsztatów Muzycznych<br>"Mała Akademia B
	luesa" dla najmłodszych &amp; KONCERTY</p><p>WSTĘP WOLNY</p><p>GDZIE: Amfi
	teatr Kamienna Góra<br>Warsztaty 16:00<br>Koncerty 17:30</p><p>PROGRAM<br>
	12.07 Mr.Shorty<br>19.07 Jacek Siciarek Trio<br>26.07 Jo &amp; Lazy Fellow
	<br>2.08 Cotton Wing<br>9.08 Radunia River Jazz Band</p><p>Organizator : B
	lues Club</p><p>Partner Miasto Gdynia<br>Patronat medialny<br>Radio Gdańsk
	 // <a target="_blank" href="https://l.facebook.com/l.php?u=http%3A%2F%2FT
	rojmiasto.pl%2F%3Ffbclid%3DIwZXh0bgNhZW0CMTAAYnJpZBExTFhmejJaVFFVbXViZjBCY
	gEemkm12G1MtGPY5dgiHVNs1VxGC3mDZPetHO7TP8AsBE_EZSz3nOany54efNg_aem_o84KGV8
	ADiaTTwxf9bAZFw&amp;h=AT2AsWlXbWUacuqGi2vB8Ujt5xcwCnjh5Sca2MdS0HT5zjCym1O4
	HkNTiZ7SI4Bb_263yFqMqQSbF1TZaikBQVstivrcAc6WjTkhhiJddXarC2rIsuHKlIfdMojrlc
	_mCZYqNGfP7z2tc4Id&amp;__tn__=q&amp;c[0]=AT1ggfZsRBVkkFn8fpLN-BmhlE7j695j0
	twQmU4VuXdXpGBjS1jB2iiwztZyOERdkvgGqMxyfvH8LZTDHHHq0_DFMvGG_km6pSQ698yCDev
	cOk40jL-dm7Bx4bVOMcundsoUhRJNUlBY9di8XAWM4tVmsDptYJlkEys"><strong>Trojmias
	to.pl</strong></a> // Dziennik Bałtycki</p>
END:VEVENT
BEGIN:VEVENT
UID:279@tricity.dance
SUMMARY:Muzyczne lato z Energą
DTSTAMP:20260422T085309Z
DTSTART:20250719T153000Z
DTEND:20250719T170000Z
DESCRIPTION:Muzyczne Lato z Energą\n\nSponsor Główny Energa Grupa Orlen\n\n
	Cykl 5 Warsztatów Muzycznych\n"Mała Akademia Bluesa" dla najmłodszych & KO
	NCERTY\n\nWSTĘP WOLNY\n\nGDZIE: Amfiteatr Kamienna Góra\nWarsztaty 16:00\n
	Koncerty 17:30\n\nPROGRAM\n12.07 Mr.Shorty\n19.07 Jacek Siciarek Trio\n26.
	07 Jo & Lazy Fellow\n2.08 Cotton Wing\n9.08 Radunia River Jazz Band\n\nOrg
	anizator : Blues Club\n\nPartner Miasto Gdynia\nPatronat medialny\nRadio G
	dańsk // Trojmiasto.pl\n[https://l.facebook.com/l.php?u=http%3A%2F%2FTrojm
	iasto.pl%2F%3Ffbclid%3DIwZXh0bgNhZW0CMTAAYnJpZBExTFhmejJaVFFVbXViZjBCYgEem
	km12G1MtGPY5dgiHVNs1VxGC3mDZPetHO7TP8AsBE_EZSz3nOany54efNg_aem_o84KGV8ADia
	TTwxf9bAZFw&h=AT2AsWlXbWUacuqGi2vB8Ujt5xcwCnjh5Sca2MdS0HT5zjCym1O4HkNTiZ7S
	I4Bb_263yFqMqQSbF1TZaikBQVstivrcAc6WjTkhhiJddXarC2rIsuHKlIfdMojrlc_mCZYqNG
	fP7z2tc4Id&__tn__=q&c[0]=AT1ggfZsRBVkkFn8fpLN-BmhlE7j695j0twQmU4VuXdXpGBjS
	1jB2iiwztZyOERdkvgGqMxyfvH8LZTDHHHq0_DFMvGG_km6pSQ698yCDevcOk40jL-dm7Bx4bV
	OMcundsoUhRJNUlBY9di8XAWM4tVmsDptYJlkEys]\n// Dziennik Bałtycki
URL:https://tricity.dance/event/muzyczne-lato-z-energa-2
LOCATION:Amfiteatr Kamienna Góra - ul. Kamienna Góra\, Gdynia
STATUS:CONFIRMED
CATEGORIES:Blues,cykliczne,Muzyka na żywo,Gdynia
X-ALT-DESC;FMTTYPE=text/html:<p>Muzyczne Lato z Energą</p><p>Sponsor Główny
	 Energa Grupa Orlen</p><p>Cykl 5 Warsztatów Muzycznych<br>"Mała Akademia B
	luesa" dla najmłodszych &amp; KONCERTY</p><p>WSTĘP WOLNY</p><p>GDZIE: Amfi
	teatr Kamienna Góra<br>Warsztaty 16:00<br>Koncerty 17:30</p><p>PROGRAM<br>
	12.07 Mr.Shorty<br>19.07 Jacek Siciarek Trio<br>26.07 Jo &amp; Lazy Fellow
	<br>2.08 Cotton Wing<br>9.08 Radunia River Jazz Band</p><p>Organizator : B
	lues Club</p><p>Partner Miasto Gdynia<br>Patronat medialny<br>Radio Gdańsk
	 // <a target="_blank" href="https://l.facebook.com/l.php?u=http%3A%2F%2FT
	rojmiasto.pl%2F%3Ffbclid%3DIwZXh0bgNhZW0CMTAAYnJpZBExTFhmejJaVFFVbXViZjBCY
	gEemkm12G1MtGPY5dgiHVNs1VxGC3mDZPetHO7TP8AsBE_EZSz3nOany54efNg_aem_o84KGV8
	ADiaTTwxf9bAZFw&amp;h=AT2AsWlXbWUacuqGi2vB8Ujt5xcwCnjh5Sca2MdS0HT5zjCym1O4
	HkNTiZ7SI4Bb_263yFqMqQSbF1TZaikBQVstivrcAc6WjTkhhiJddXarC2rIsuHKlIfdMojrlc
	_mCZYqNGfP7z2tc4Id&amp;__tn__=q&amp;c[0]=AT1ggfZsRBVkkFn8fpLN-BmhlE7j695j0
	twQmU4VuXdXpGBjS1jB2iiwztZyOERdkvgGqMxyfvH8LZTDHHHq0_DFMvGG_km6pSQ698yCDev
	cOk40jL-dm7Bx4bVOMcundsoUhRJNUlBY9di8XAWM4tVmsDptYJlkEys"><strong>Trojmias
	to.pl</strong></a> // Dziennik Bałtycki</p>
END:VEVENT
END:VCALENDAR
