BEGIN:VCALENDAR
VERSION:2.0
CALSCALE:GREGORIAN
PRODID:adamgibbons/ics
METHOD:PUBLISH
X-PUBLISHED-TTL:PT1H
BEGIN:VEVENT
UID:294@tricity.dance
SUMMARY:Swingowy piknik na świeżym powietrzu
DTSTAMP:20260424T084113Z
DTSTART:20250814T160000Z
DTEND:20250814T210000Z
DESCRIPTION:Czas na piknikowanie z kocykami\, muzyczką\, prowiantem i tanec
	zkami. Zapraszamy\nwszystkich tańczących\, nietańczących oraz znajomych ty
	ch wszystkich na wspólny\nczill. Sezon ma miłe spędzenie wolnego czasu już
	 dawno otwarty\, więc się\nspieszmy łapać lato. Warto wspomieć\, że następ
	nego dnia nie idziemy do pracy\,\ngdyż jest dzień wolny\n\nMiejsce: Amfite
	atr na Kamiennej Górze\nCo warto przynieść: koc\, koszyk z jedzeniem\, buk
	łak z dowolną cieczą\, buty do\ntańca\, dobry vibe\, gry planszowe\, cokol
	wiek co się przyda.\n\nDo zobaczenia!
URL:https://tricity.dance/event/swingowy-piknik-na-swiezym-powietrzu
LOCATION:Amfiteatr Kamienna Góra - ul. Kamienna Góra\, Gdynia
STATUS:CONFIRMED
CATEGORIES:piknik
X-ALT-DESC;FMTTYPE=text/html:<p>Czas na piknikowanie z kocykami, muzyczką, 
	prowiantem i taneczkami. Zapraszamy wszystkich tańczących, nietańczących o
	raz znajomych tych wszystkich na wspólny czill. Sezon ma miłe spędzenie wo
	lnego czasu już dawno otwarty, więc się spieszmy łapać lato. Warto wspomie
	ć, że następnego dnia nie idziemy do pracy, gdyż jest dzień wolny</p><p>Mi
	ejsce: Amfiteatr na Kamiennej Górze<br>Co warto przynieść: koc, koszyk z j
	edzeniem, bukłak z dowolną cieczą, buty do tańca, dobry vibe, gry planszow
	e, cokolwiek co się przyda.</p><p>Do zobaczenia!</p>
END:VEVENT
BEGIN:VEVENT
UID:38@tricity.dance
SUMMARY:Balboa piknik
DTSTAMP:20260424T084113Z
DTSTART:20240615T150000Z
DTEND:20240615T200000Z
DESCRIPTION:Kolejny raz zapraszamy na taneczki pod chmurką\, a później kocy
	kowanie na trawie\nlub plaży.\n\nKiedy? Popołudniu w sobotę 15 czerwca od 
	godziny 17:00\n\nGdzie? Tam gdzie ostatnio - Amfiteatr na kamiennej górze 
	w Gdyni\nhttps://maps.app.goo.gl/hrBBHecKuAZgWATR9\n[https://maps.app.goo.
	gl/hrBBHecKuAZgWATR9]\n\nJak ktoś chce dołączyć poszurać balboa i spędzić 
	miły leżing z ludzimi swingu to\nzapraszamy. Osoby\, które nie znają\, a c
	hcą poznać balboa też będą miłe widziane\ni mogą liczyć na naszą pomoc. A 
	osoby\, które nie znają balboa\, a nie chcą go\npoznać - mogą zawsze wybra
	ć z pikniku tylko część leniuchowania.\n\nJeśli ktoś ma ochotę potańczyć i
	nne gatunki swingu\, nie będziemy wyganiać tylko\nsię cieszyć\, ale uprzed
	zamy że będzie to piknik balboa\, jesteśmy głównie\nnastawieni na taniec b
	albo - czyli będzie w większości szybka swingowa muzyka.\n\nW razie co wie
	cie gdzie nas znaleść\n\nZosia i Filip
URL:https://tricity.dance/event/balboa-piknik
LOCATION:Amfiteatr Kamienna Góra - ul. Kamienna Góra\, Gdynia
STATUS:CONFIRMED
CATEGORIES:Balboa,Gdynia,piknik
X-ALT-DESC;FMTTYPE=text/html:<p>Kolejny raz zapraszamy na taneczki pod chmu
	rką, a później kocykowanie na trawie lub plaży.</p><p> Kiedy? <strong>Popo
	łudniu w sobotę 15 czerwca od godziny 17:00</strong></p><p> Gdzie? Tam gdz
	ie ostatnio - <strong>Amfiteatr na kamiennej górze w Gdyni</strong> <a tar
	get="_blank" href="https://maps.app.goo.gl/hrBBHecKuAZgWATR9">https://maps
	.app.goo.gl/hrBBHecKuAZgWATR9</a></p><p> Jak ktoś chce dołączyć poszurać b
	alboa i spędzić miły leżing z ludzimi swingu to zapraszamy. Osoby, które n
	ie znają, a chcą poznać balboa też będą miłe widziane i mogą liczyć na nas
	zą pomoc. A osoby, które nie znają balboa, a nie chcą go poznać - mogą zaw
	sze wybrać z pikniku tylko część leniuchowania.</p><p> Jeśli ktoś ma ochot
	ę potańczyć inne gatunki swingu, nie będziemy wyganiać tylko się cieszyć, 
	ale uprzedzamy że będzie to piknik balboa, jesteśmy głównie nastawieni na 
	taniec balbo - czyli będzie w większości szybka swingowa muzyka.</p><p>W r
	azie co wiecie gdzie nas znaleść</p><p>Zosia i Filip</p>
END:VEVENT
BEGIN:VEVENT
UID:32@tricity.dance
SUMMARY:SHIM SHAM FLASH MOB - URODZINOWY PIKNIK FRANKIEGO W AMFITEATRZE NA 
	KAMIENNEJ GÓRZE
DTSTAMP:20260424T084113Z
DTSTART:20240526T130000Z
DTEND:20240526T180000Z
DESCRIPTION:Kiedy Frankie Manning\, legenda lindy hopa\, obchodził pośmiert
	nie 100 urodziny w\nNowym Jorku zgromadziło się 2 tys. tancerzy z całego ś
	wiata. Było to\nniezapomniane wydarzenie\, w którym uczestniczyła nasza in
	struktorka.\n\nW tym roku otrzymaliśmy zaproszenie od tancerzy z Czech\, a
	by dołączyć do\nflashmoba i w dniu urodzin Frankiego zatańczyć Shim Shama 
	(znaną choreografię\nFrankiego) w plenerze oraz przesłać nasze nagranie\n\
	nSpotykamy się na pikniku\, powtarzamy Shim Shama (możemy też przećwiczyć 
	inne\nrzeczy z zajęć) a na koniec nagrywamy "pocztówkę" dla znajomych z Cz
	ech\n\nDodatkowo warto wspomnieć\, że w dniu urodzin Frankiego Manninga (2
	6.05.)\nobchodzimy Światowy Dzień Lindy Hopa! Tego dnia tancerze swingowi 
	na całym\nświecie tańczą Shim Shama.\n\nMIEJSCE i CZAS\n\nAmfiteatr w Gdyn
	i na Kamiennej Górze koło 15\nPrzynieście koce i przekąski\n\nTo jak? Widz
	imy się?
URL:https://tricity.dance/event/shim-sham-flash-mob-urodzinowy-piknik-frank
	iego-w-amfiteatrze-na-kamiennej-gorze
LOCATION:Amfiteatr Kamienna Góra - ul. Kamienna Góra\, Gdynia
STATUS:CONFIRMED
CATEGORIES:Gdynia,Swing,piknik,shimsham
X-ALT-DESC;FMTTYPE=text/html:<p>Kiedy Frankie Manning, legenda lindy hopa, 
	obchodził pośmiertnie 100 urodziny w Nowym Jorku zgromadziło się 2 tys. ta
	ncerzy z całego świata. Było to niezapomniane wydarzenie, w którym uczestn
	iczyła nasza instruktorka.</p><p>W tym roku otrzymaliśmy zaproszenie od ta
	ncerzy z Czech, aby dołączyć do flashmoba i w dniu urodzin Frankiego zatań
	czyć Shim Shama (znaną choreografię Frankiego) w plenerze oraz przesłać na
	sze nagranie</p><p>Spotykamy się na pikniku, powtarzamy Shim Shama (możemy
	 też przećwiczyć inne rzeczy z zajęć) a na koniec nagrywamy "pocztówkę" dl
	a znajomych z Czech</p><p>Dodatkowo warto wspomnieć, że w dniu urodzin Fra
	nkiego Manninga (26.05.) obchodzimy Światowy Dzień Lindy Hopa! Tego dnia t
	ancerze swingowi na całym świecie tańczą Shim Shama.</p><p>MIEJSCE i CZAS<
	/p><p>Amfiteatr w Gdyni na Kamiennej Górze koło 15 <br>Przynieście koce i 
	przekąski</p><p>To jak? Widzimy się?</p>
END:VEVENT
END:VCALENDAR
